BEGIN:VCALENDAR
VERSION:2.0
PRODID:-//The Pathway School - ECPv6.15.20//NONSGML v1.0//EN
CALSCALE:GREGORIAN
METHOD:PUBLISH
X-WR-CALNAME:The Pathway School
X-ORIGINAL-URL:https://www.pathwayschool.org
X-WR-CALDESC:Events for The Pathway School
REFRESH-INTERVAL;VALUE=DURATION:PT1H
X-Robots-Tag:noindex
X-PUBLISHED-TTL:PT1H
BEGIN:VTIMEZONE
TZID:America/New_York
BEGIN:DAYLIGHT
TZOFFSETFROM:-0500
TZOFFSETTO:-0400
TZNAME:EDT
DTSTART:20220313T070000
END:DAYLIGHT
BEGIN:STANDARD
TZOFFSETFROM:-0400
TZOFFSETTO:-0500
TZNAME:EST
DTSTART:20221106T060000
END:STANDARD
BEGIN:DAYLIGHT
TZOFFSETFROM:-0500
TZOFFSETTO:-0400
TZNAME:EDT
DTSTART:20230312T070000
END:DAYLIGHT
BEGIN:STANDARD
TZOFFSETFROM:-0400
TZOFFSETTO:-0500
TZNAME:EST
DTSTART:20231105T060000
END:STANDARD
BEGIN:DAYLIGHT
TZOFFSETFROM:-0500
TZOFFSETTO:-0400
TZNAME:EDT
DTSTART:20240310T070000
END:DAYLIGHT
BEGIN:STANDARD
TZOFFSETFROM:-0400
TZOFFSETTO:-0500
TZNAME:EST
DTSTART:20241103T060000
END:STANDARD
END:VTIMEZONE
BEGIN:VEVENT
DTSTART;TZID=America/New_York:20231206T103000
DTEND;TZID=America/New_York:20231206T110000
DTSTAMP:20260423T055859
CREATED:20231204T160931Z
LAST-MODIFIED:20231204T160931Z
UID:5727-1701858600-1701860400@www.pathwayschool.org
SUMMARY:Elf Jr. The Musical
DESCRIPTION:
URL:https://www.pathwayschool.org/event/elf-jr-the-musical/
LOCATION:The Centre Theater\, 208 DeKalb St\, Norristown\, PA\, 19401\, United States
END:VEVENT
BEGIN:VEVENT
DTSTART;TZID=America/New_York:20231206T130000
DTEND;TZID=America/New_York:20231206T133000
DTSTAMP:20260423T055859
CREATED:20231204T161027Z
LAST-MODIFIED:20231204T161027Z
UID:5730-1701867600-1701869400@www.pathwayschool.org
SUMMARY:Elf Jr. The Musical
DESCRIPTION:
URL:https://www.pathwayschool.org/event/elf-jr-the-musical-2/
LOCATION:The Centre Theater\, 208 DeKalb St\, Norristown\, PA\, 19401\, United States
END:VEVENT
END:VCALENDAR